BEGIN:VCALENDAR
METHOD:PUBLISH
PRODID:-//LogicWorks GmbH//NONSGML Contentory//EN
VERSION:2.0
CALSCALE:GREGORIAN
X-MS-OLK-FORCEINSPECTOROPEN:TRUE
BEGIN:VEVENT
DTSTAMP:20260422T183811Z
SUMMARY:ASPIRE Konferenz
DESCRIPTION:Die Partnerschaft Processes4Planet\, lädt im Rahmen ihrer zweiten Prozess
 industrie Konferenz zum Austausch über „Shaping the Transformation“ e
 in.
LOCATION:Brüssel
CREATED:20241009T113520
LAST-MODIFIED:20241009T113520
DTSTART;VALUE=DATE:20241023T000000
DTEND;VALUE=DATE:20241024T235959
UID:sn_1256_date_0@logic-works.net
END:VEVENT
END:VCALENDAR