BEGIN:VCALENDAR
METHOD:PUBLISH
PRODID:-//LogicWorks GmbH//NONSGML Contentory//EN
VERSION:2.0
CALSCALE:GREGORIAN
X-MS-OLK-FORCEINSPECTOROPEN:TRUE
BEGIN:VEVENT
DTSTAMP:20260421T105038Z
SUMMARY:„Antragstellung in Horizont Europa: Excellence - Impact - Implementation
 " Veranstaltungsreihe
DESCRIPTION:Die Nationale Kontaktstelle Gesundheit bietet vom 24. bis 26. August 2021 
 eine virtuelle Veranstaltungsreihe zu den verschiedenen Antragsteilen in H
 orizont Europa an.
LOCATION:Online
CREATED:20210811T084424
LAST-MODIFIED:20210811T084424
DTSTART;VALUE=DATE:20210824T130000
DTEND;VALUE=DATE:20210826T143000
UID:sn_276_date_0@logic-works.net
END:VEVENT
END:VCALENDAR