BEGIN:VCALENDAR
METHOD:PUBLISH
PRODID:-//LogicWorks GmbH//NONSGML Contentory//EN
VERSION:2.0
CALSCALE:GREGORIAN
X-MS-OLK-FORCEINSPECTOROPEN:TRUE
BEGIN:VEVENT
DTSTAMP:20260423T123804Z
SUMMARY:Antragstellung in Horizont Europa – Cluster Gesundheit: Online-Seminarre
 ihe und offener Austausch
DESCRIPTION:Die Nationale Kontaktstelle (NKS) Gesundheit bietet vom 07. bis 10. Februa
 r 2022 eine virtuelle Veranstaltungsreihe zu den verschiedenen Antragsteil
 en in Horizont Europa an.
LOCATION:online
CREATED:20220131T145331
LAST-MODIFIED:20220131T145331
DTSTART;VALUE=DATE:20220207T130000
DTEND;VALUE=DATE:20220210T143000
UID:sn_392_date_0@logic-works.net
END:VEVENT
END:VCALENDAR