BEGIN:VCALENDAR
METHOD:PUBLISH
PRODID:-//LogicWorks GmbH//NONSGML Contentory//EN
VERSION:2.0
CALSCALE:GREGORIAN
X-MS-OLK-FORCEINSPECTOROPEN:TRUE
BEGIN:VEVENT
DTSTAMP:20260423T134945Z
SUMMARY:AI in Science Conference 2025 (AIS25)
DESCRIPTION:Die Europäische Kommission\, die Universität Kopenhagen und das Dänisch
 e Ministerium für Höhere Bildung und Wissenschaft laden am 3. und 4. Nov
 ember zur Konferenz „AI in Science“ nach Kopenhagen ein.
LOCATION:Bella Sky
CREATED:20250707T134741
LAST-MODIFIED:20250707T142906
DTSTART;VALUE=DATE:20251103T000000
DTEND;VALUE=DATE:20251104T235959
UID:sn_1657_date_0@logic-works.net
END:VEVENT
END:VCALENDAR