BEGIN:VCALENDAR
METHOD:PUBLISH
PRODID:-//LogicWorks GmbH//NONSGML Contentory//EN
VERSION:2.0
CALSCALE:GREGORIAN
X-MS-OLK-FORCEINSPECTOROPEN:TRUE
BEGIN:VEVENT
DTSTAMP:20260423T134817Z
SUMMARY:Advanced Materials for Industrial Leadership
DESCRIPTION:Die AMI2030 und das Graphene Flagship veranstalten am 16. Juli 2024 eine o
 nline Info-Session zum Stand der Umsetzung der von der EU-Kommission angek
 ündigten Strategie „Advanced Materials for Industrial Leadership“\, m
 it besonderem Schwerpunkt auf der Rolle der IAM4EU Partnerschaft.
LOCATION:Online
CREATED:20240704T114121
LAST-MODIFIED:20240704T133435
DTSTART;VALUE=DATE:20240716T103000
DTEND;VALUE=DATE:20240716T123000
UID:sn_1143_date_0@logic-works.net
END:VEVENT
END:VCALENDAR