BEGIN:VCALENDAR
METHOD:PUBLISH
PRODID:-//LogicWorks GmbH//NONSGML Contentory//EN
VERSION:2.0
CALSCALE:GREGORIAN
X-MS-OLK-FORCEINSPECTOROPEN:TRUE
BEGIN:VEVENT
DTSTAMP:20260425T215020Z
SUMMARY:Adra Info Day und Brokerage Event
DESCRIPTION:Die „AI\, Data and Robotics Association“ (Adra) lädt zu einer online 
 Infoveranstaltung ein\, bei der diejenigen Ausschreibungen in Horizont Eur
 opa vorgestellt werden\, welche sich explizit mit den Themen KI\, Datentec
 hnologien und/oder Robotik befassen.
LOCATION:online (zoom)
CREATED:20230110T103026
LAST-MODIFIED:20230110T143038
DTSTART;VALUE=DATE:20230203T093000
DTEND;VALUE=DATE:20230203T130000
UID:sn_678_date_0@logic-works.net
END:VEVENT
END:VCALENDAR