BEGIN:VCALENDAR
METHOD:PUBLISH
PRODID:-//LogicWorks GmbH//NONSGML Contentory//EN
VERSION:2.0
CALSCALE:GREGORIAN
X-MS-OLK-FORCEINSPECTOROPEN:TRUE
BEGIN:VEVENT
DTSTAMP:20260423T121616Z
SUMMARY:ADR – Partnership Information Day and Brokerage Event
DESCRIPTION:ADRA\, IDEAL-IST und die EU-Kommission laden am 17.04.24 zum Informations-
  und Brokerage-Event rund um KI\, Daten und Robotik nach Brüssel ein.
LOCATION:Breydel Building
CREATED:20240326T151545
LAST-MODIFIED:20240409T150806
DTSTART;VALUE=DATE:20240417T090000
DTEND;VALUE=DATE:20240417T170000
UID:sn_969_date_0@logic-works.net
END:VEVENT
END:VCALENDAR