BEGIN:VCALENDAR
METHOD:PUBLISH
PRODID:-//LogicWorks GmbH//NONSGML Contentory//EN
VERSION:2.0
CALSCALE:GREGORIAN
X-MS-OLK-FORCEINSPECTOROPEN:TRUE
BEGIN:VEVENT
DTSTAMP:20260425T200035Z
SUMMARY:AI\, Data\, Robotics Forum 2024
DESCRIPTION:Die ko-programmierte Partnerschaft „AI\, Data and Robotics“ lädt vom 
 04.11.24 bis 05.11.2024 zum ADR Forum 2024 nach Eindhoven ein.
LOCATION:Evoluon
CREATED:20240627T171242
LAST-MODIFIED:20240628T125747
DTSTART;VALUE=DATE:20241104T090000
DTEND;VALUE=DATE:20241105T180000
UID:sn_1134_date_0@logic-works.net
END:VEVENT
END:VCALENDAR