BEGIN:VCALENDAR
METHOD:PUBLISH
PRODID:-//LogicWorks GmbH//NONSGML Contentory//EN
VERSION:2.0
CALSCALE:GREGORIAN
X-MS-OLK-FORCEINSPECTOROPEN:TRUE
BEGIN:VEVENT
DTSTAMP:20260426T030720Z
SUMMARY:Achema Pulse
DESCRIPTION:Mehr als 900 Aussteller mit ihren Produkten und neusten Entwicklungen\, ei
 n spannendes Live-Programm mit Präsentationen und Diskussionen zu aktuel
 len Themen und Trends und ein umfassender Kongress erwarten Sie.
LOCATION:Online
CREATED:20210521T172056
LAST-MODIFIED:20210521T172056
DTSTART;VALUE=DATE:20210615T000000
DTEND;VALUE=DATE:20210616T235959
UID:sn_230_date_0@logic-works.net
END:VEVENT
END:VCALENDAR