BEGIN:VCALENDAR
METHOD:PUBLISH
PRODID:-//LogicWorks GmbH//NONSGML Contentory//EN
VERSION:2.0
CALSCALE:GREGORIAN
X-MS-OLK-FORCEINSPECTOROPEN:TRUE
BEGIN:VEVENT
DTSTAMP:20260423T121138Z
SUMMARY:ACHEMA 2024
DESCRIPTION:Die ACHEMA ist die weltweit größte Messe der Prozessindustrie und wird v
 om 10. Juni bis zum 14. Juni 2024 auf dem Messegelände in Frankfurt am Ma
 in stattfinden. Auch die NKS DIT ist dort vertreten.
LOCATION:Messe Frankfurt
CREATED:20240527T135747
LAST-MODIFIED:20240527T143051
DTSTART;VALUE=DATE:20240610T090000
DTEND;VALUE=DATE:20240614T160000
UID:sn_1093_date_0@logic-works.net
END:VEVENT
END:VCALENDAR