BEGIN:VCALENDAR
METHOD:PUBLISH
PRODID:-//LogicWorks GmbH//NONSGML Contentory//EN
VERSION:2.0
CALSCALE:GREGORIAN
X-MS-OLK-FORCEINSPECTOROPEN:TRUE
BEGIN:VEVENT
DTSTAMP:20260423T164018Z
SUMMARY:acatech Themenkonferenz: „Werkstoffe – Wertstoffe – Rohstoffe. Beitr
 ag kreislauffähiger Werkstoffsysteme für eine nachhaltige und resiliente
  Rohstoffversorgung“
DESCRIPTION:Die Themenkonferenz beschäftigt sich mit dem wichtigen Thema der Rohstoff
 versorgung und dem Beitrag von kreislauffähigen Werkstoffsystemen mit ein
 em Fokus auf kritische Technologiemetalle.
LOCATION:Amerikahaus
CREATED:20231009T120353
LAST-MODIFIED:20231009T120415
DTSTART;VALUE=DATE:20231107T110000
DTEND;VALUE=DATE:20231107T163000
UID:sn_845_date_0@logic-works.net
END:VEVENT
END:VCALENDAR