BEGIN:VCALENDAR
METHOD:PUBLISH
PRODID:-//LogicWorks GmbH//NONSGML Contentory//EN
VERSION:2.0
CALSCALE:GREGORIAN
X-MS-OLK-FORCEINSPECTOROPEN:TRUE
BEGIN:VEVENT
DTSTAMP:20260423T122513Z
SUMMARY:Online-Veranstaltung zur Abrechnung tatsächlicher Kosten in Horizont Euro
 pa
DESCRIPTION:Die Nationale Kontaktstelle Recht und Finanzen führt am 10. April eine O
 nline-Veranstaltung zur Abrechnung tatsächlicher Kosten in Horizont-Europ
 a-Projekten durch.
LOCATION:Online
CREATED:20240226T120823
LAST-MODIFIED:20240226T120823
DTSTART;VALUE=DATE:20240410T100000
DTEND;VALUE=DATE:20240410T120000
UID:sn_943_date_0@logic-works.net
END:VEVENT
END:VCALENDAR