BEGIN:VCALENDAR
METHOD:PUBLISH
PRODID:-//LogicWorks GmbH//NONSGML Contentory//EN
VERSION:2.0
CALSCALE:GREGORIAN
X-MS-OLK-FORCEINSPECTOROPEN:TRUE
BEGIN:VEVENT
DTSTAMP:20260423T164747Z
SUMMARY:ABC der Antragstellung
DESCRIPTION:Die Kontaktstelle Frauen in die Forschung - FiF führt am 20.09.2022 eine 
 Online-Veranstaltung mit dem Titel "ABC der Antragstellung" durch\, die si
 ch an potenzielle Antragstellerinnen in allen Bereichen von Horizont Europ
 a richtet.
LOCATION:Online
CREATED:20220816T124837
LAST-MODIFIED:20220816T124837
DTSTART;VALUE=DATE:20220920T090000
DTEND;VALUE=DATE:20220920T123000
UID:sn_570_date_0@logic-works.net
END:VEVENT
END:VCALENDAR