BEGIN:VCALENDAR
METHOD:PUBLISH
PRODID:-//LogicWorks GmbH//NONSGML Contentory//EN
VERSION:2.0
CALSCALE:GREGORIAN
X-MS-OLK-FORCEINSPECTOROPEN:TRUE
BEGIN:VEVENT
DTSTAMP:20260423T135211Z
SUMMARY:Workshop zur Antragstellung im Digital Europe Programme
DESCRIPTION:In diesem Workshop des Nationale Koordinierungszentrum für Cybersicherhei
 t (NKCS) erhalten Sie einen umfassenden Einblick in die aktuellen Cybersi
 cherheits-Ausschreibungen des Digital Europe Programme. Lernen Sie Hands-O
 n in kleinen Gruppen\, wie die Erstellung eines Antrags abläuft und verne
 tzen Sie sich mit Gleichgesinnten.
LOCATION:DLR Projektträger
CREATED:20260202T145548
LAST-MODIFIED:20260204T160218
DTSTART;VALUE=DATE:20260304T100000
DTEND;VALUE=DATE:20260304T163000
UID:sn_2086_date_0@logic-works.net
END:VEVENT
END:VCALENDAR