BEGIN:VCALENDAR
METHOD:PUBLISH
PRODID:-//LogicWorks GmbH//NONSGML Contentory//EN
VERSION:2.0
CALSCALE:GREGORIAN
X-MS-OLK-FORCEINSPECTOROPEN:TRUE
BEGIN:VEVENT
DTSTAMP:20260421T104413Z
SUMMARY:International AI Summit 2026
DESCRIPTION:Der International AI Summit wird als hochrangige Plattform für Diskussion
 en\, Zusammenarbeit und strategischen Dialog über die Möglichkeiten der 
 zukünftigen Anwendung von künstlicher Intelligenz in Europa und weltweit
  dienen.
LOCATION:Royal Dublin Society (RDS)\,
CREATED:20260414T144848
LAST-MODIFIED:20260414T144848
DTSTART;VALUE=DATE:20261014T000000
DTEND;VALUE=DATE:20261014T235959
UID:sn_2195_date_0@logic-works.net
END:VEVENT
END:VCALENDAR