BEGIN:VCALENDAR
METHOD:PUBLISH
PRODID:-//LogicWorks GmbH//NONSGML Contentory//EN
VERSION:2.0
CALSCALE:GREGORIAN
X-MS-OLK-FORCEINSPECTOROPEN:TRUE
BEGIN:VEVENT
DTSTAMP:20260423T164613Z
SUMMARY:HaDEA Showcase Event
DESCRIPTION:Die Health and Digital Executive Agency (HaDEA) lädt am 19. Januar zum Pr
 oject Showcase Event nach Brüssel ein.
LOCATION:Charlemagne Conference Centre
CREATED:20251213T161411
LAST-MODIFIED:20251215T070926
DTSTART;VALUE=DATE:20260119T083000
DTEND;VALUE=DATE:20260119T190000
UID:sn_1995_date_0@logic-works.net
END:VEVENT
END:VCALENDAR