BEGIN:VCALENDAR
METHOD:PUBLISH
PRODID:-//LogicWorks GmbH//NONSGML Contentory//EN
VERSION:2.0
CALSCALE:GREGORIAN
X-MS-OLK-FORCEINSPECTOROPEN:TRUE
BEGIN:VEVENT
DTSTAMP:20260422T151545Z
SUMMARY:European Robotics Forum (ERF) 2026
DESCRIPTION:euRobotics\, NORCE und SINTEF laden in der letzten März-Woche zum ERF 202
 6 nach Stavanger ein.
LOCATION:Stavanger Forum
CREATED:20251217T142058
LAST-MODIFIED:20251218T062845
DTSTART;VALUE=DATE:20260323T000000
DTEND;VALUE=DATE:20260327T235959
UID:sn_2010_date_0@logic-works.net
END:VEVENT
END:VCALENDAR