BEGIN:VCALENDAR
METHOD:PUBLISH
PRODID:-//LogicWorks GmbH//NONSGML Contentory//EN
VERSION:2.0
CALSCALE:GREGORIAN
X-MS-OLK-FORCEINSPECTOROPEN:TRUE
BEGIN:VEVENT
DTSTAMP:20260422T184243Z
SUMMARY:ECS Brokerage Event 2026
DESCRIPTION:Das diesjährige Electronics Components and Systems (ECS) Brokerage Event 
 in Brüssel richtet sich an alle\, die sich für die aktuellen Chips JU Ca
 lls interessieren.
LOCATION:The EGG
CREATED:20251213T164204
LAST-MODIFIED:20251215T070955
DTSTART;VALUE=DATE:20260204T080000
DTEND;VALUE=DATE:20260205T180000
UID:sn_1998_date_0@logic-works.net
END:VEVENT
END:VCALENDAR