BEGIN:VCALENDAR
METHOD:PUBLISH
PRODID:-//LogicWorks GmbH//NONSGML Contentory//EN
VERSION:2.0
CALSCALE:GREGORIAN
X-MS-OLK-FORCEINSPECTOROPEN:TRUE
BEGIN:VEVENT
DTSTAMP:20260422T211439Z
SUMMARY:Data Spaces Symposium
DESCRIPTION:Das Data Spaces Symposium 2026 findet am 10. und 11. Februar in Madrid sta
 tt.
LOCATION:Novotel Madrid Center
CREATED:20251213T153155
LAST-MODIFIED:20251215T070856
DTSTART;VALUE=DATE:20260210T080000
DTEND;VALUE=DATE:20260211T173000
UID:sn_1992_date_0@logic-works.net
END:VEVENT
END:VCALENDAR