BEGIN:VCALENDAR
METHOD:PUBLISH
PRODID:-//LogicWorks GmbH//NONSGML Contentory//EN
VERSION:2.0
CALSCALE:GREGORIAN
X-MS-OLK-FORCEINSPECTOROPEN:TRUE
BEGIN:VEVENT
DTSTAMP:20260422T183419Z
SUMMARY:Horizon Europe Cluster 4 Info Days 2026
DESCRIPTION:Die Info Days der EU-Kommission zum Arbeitsprogramm 2026 in Cluster 4 werd
 en am 29. und 30. Januar online stattfinden.
LOCATION:online
CREATED:20251216T085740
LAST-MODIFIED:20260107T120529
DTSTART;VALUE=DATE:20260129T093000
DTEND;VALUE=DATE:20260130T180000
UID:sn_2004_date_0@logic-works.net
END:VEVENT
END:VCALENDAR