BEGIN:VCALENDAR
METHOD:PUBLISH
PRODID:-//LogicWorks GmbH//NONSGML Contentory//EN
VERSION:2.0
CALSCALE:GREGORIAN
X-MS-OLK-FORCEINSPECTOROPEN:TRUE
BEGIN:VEVENT
DTSTAMP:20260423T164859Z
SUMMARY:VernetzBar MatchMaking - Ihre Chance zum interdisziplinären Austausch
DESCRIPTION:Die NKS Gesellschaft organisiert gemeinsam mit den Nationalen Kontaktstell
 en der Cluster 1 und 3–6 eine Veranstaltungsreihe zur SSH-STEM VernetzBa
 r und zur Einbindung der SSH in die Ausschreibungen 2026.
LOCATION:online
CREATED:20251021T154802
LAST-MODIFIED:20251021T154830
DTSTART;VALUE=DATE:20251218T110000
DTEND;VALUE=DATE:20251218T150000
UID:sn_1873_date_0@logic-works.net
END:VEVENT
END:VCALENDAR