BEGIN:VCALENDAR
METHOD:PUBLISH
PRODID:-//LogicWorks GmbH//NONSGML Contentory//EN
VERSION:2.0
CALSCALE:GREGORIAN
X-MS-OLK-FORCEINSPECTOROPEN:TRUE
BEGIN:VEVENT
DTSTAMP:20260423T170221Z
SUMMARY:VernetzBar InfoSession - Ihr Überblick über SSH relevante Themen in 2026
DESCRIPTION:Die NKS Gesellschaft organisiert gemeinsam mit den Nationalen Kontaktstell
 en der Cluster 1 und 3–6 eine Veranstaltungsreihe zur SSH-STEM VernetzBa
 r und zur Einbindung der SSH in die Ausschreibungen 2026.
LOCATION:online
CREATED:20251021T153014
LAST-MODIFIED:20251021T153014
DTSTART;VALUE=DATE:20251201T100000
DTEND;VALUE=DATE:20251201T123000
UID:sn_1870_date_0@logic-works.net
END:VEVENT
END:VCALENDAR