BEGIN:VCALENDAR
METHOD:PUBLISH
PRODID:-//LogicWorks GmbH//NONSGML Contentory//EN
VERSION:2.0
CALSCALE:GREGORIAN
X-MS-OLK-FORCEINSPECTOROPEN:TRUE
BEGIN:VEVENT
DTSTAMP:20260423T182901Z
SUMMARY:SusChem Brokerage Event zur Sustainable Chemistry
DESCRIPTION:Die SusChem veranstaltet vom 08.12.2022 bis zum 10.12.2022 ein Brokerage E
 vent mit Fokus auf Sustainable Chemistry.
LOCATION:Online
CREATED:20221125T131933
LAST-MODIFIED:20221125T131933
DTSTART;VALUE=DATE:20221208T093000
DTEND;VALUE=DATE:20221210T170000
UID:sn_644_date_0@logic-works.net
END:VEVENT
END:VCALENDAR