BEGIN:VCALENDAR
METHOD:PUBLISH
PRODID:-//LogicWorks GmbH//NONSGML Contentory//EN
VERSION:2.0
CALSCALE:GREGORIAN
X-MS-OLK-FORCEINSPECTOROPEN:TRUE
BEGIN:VEVENT
DTSTAMP:20260423T110234Z
SUMMARY:Online-Seminar: "Endlich ein vollständiges AGA – Ende gut\, alles gut?"
 .
DESCRIPTION:Anlässlich der Veröffentlichung des Annotated Grant Agreement (AGA) orga
 nisiert die Kooperationsstelle EU der Wissenschaftsorganisationen am 22. M
 ai von 13:00 bis 14:30 Uhr ein Online-Seminar mit dem Titel "Endlich ein v
 ollständiges AGA – Ende gut\, alles gut?".
LOCATION:Online
CREATED:20240517T115013
LAST-MODIFIED:20240517T123115
DTSTART;VALUE=DATE:20240522T130000
DTEND;VALUE=DATE:20240522T143000
UID:sn_1077_date_0@logic-works.net
END:VEVENT
END:VCALENDAR