BEGIN:VCALENDAR
METHOD:PUBLISH
PRODID:-//LogicWorks GmbH//NONSGML Contentory//EN
VERSION:2.0
CALSCALE:GREGORIAN
X-MS-OLK-FORCEINSPECTOROPEN:TRUE
BEGIN:VEVENT
DTSTAMP:20260425T004536Z
SUMMARY:Horizon Europe Informationswoche der Hochschulen für Angewandte Wissensch
 aften in Baden-Württemberg zu den Clustern 4\, 5 und 6
DESCRIPTION:Die Forschungsreferenten der Hochschulen für Angewandte Wissenschaften (H
 AWen) Biberach\, Heilbronn\, Karlsruhe\, Nürtingen-Geislingen\, Reutlinge
 n\, Stuttgart und Ulm führen in der Zeit vom 26.-28.09.2023 zu den Beteil
 igungsmöglichkeiten an den Ausschreibungen der Cluster 4\, 5 und 6 von Ho
 rizont Europa durch. Die Infotage werden in Kooperation mit den zuständig
 en Nationalen Kontaktstellen durchgeführt.
LOCATION:Hochschule für Technik in Stuttgart\, Technischen Hochschule in Ulm\, Hoc
 hschule Reutlingen
CREATED:20230721T122220
LAST-MODIFIED:20230721T122820
DTSTART;VALUE=DATE:20230926T000000
DTEND;VALUE=DATE:20230928T235959
UID:sn_798_date_0@logic-works.net
END:VEVENT
END:VCALENDAR