BEGIN:VCALENDAR
METHOD:PUBLISH
PRODID:-//LogicWorks GmbH//NONSGML Contentory//EN
VERSION:2.0
CALSCALE:GREGORIAN
X-MS-OLK-FORCEINSPECTOROPEN:TRUE
BEGIN:VEVENT
DTSTAMP:20260420T111414Z
SUMMARY:A.SPIRE Open Stakeholders Event
DESCRIPTION:A.SPIRE organisiert am 27. Mai 2026 in BrÃ¼ssel eine Veranstaltung zur grÃ
 ¼nen und digitalen Transformation der europÃ¤ischen Prozessindustrie.
LOCATION:Doubletree By Hilton Brussels City
CREATED:20260416T103648
LAST-MODIFIED:20260416T103648
DTSTART;VALUE=DATE:20260527T120000
DTEND;VALUE=DATE:20260527T180000
UID:sn_2200_date_0@logic-works.net
END:VEVENT
END:VCALENDAR